BEGIN:VCALENDAR
VERSION:2.0
PRODID:-//La Garde du Mont-Gibloux - ECPv6.15.20//NONSGML v1.0//EN
CALSCALE:GREGORIAN
METHOD:PUBLISH
X-WR-CALNAME:La Garde du Mont-Gibloux
X-ORIGINAL-URL:https://lgdmg.ch
X-WR-CALDESC:Évènements pour La Garde du Mont-Gibloux
REFRESH-INTERVAL;VALUE=DURATION:PT1H
X-Robots-Tag:noindex
X-PUBLISHED-TTL:PT1H
BEGIN:VTIMEZONE
TZID:Europe/Vienna
BEGIN:DAYLIGHT
TZOFFSETFROM:+0100
TZOFFSETTO:+0200
TZNAME:CEST
DTSTART:20120325T010000
END:DAYLIGHT
BEGIN:STANDARD
TZOFFSETFROM:+0200
TZOFFSETTO:+0100
TZNAME:CET
DTSTART:20121028T010000
END:STANDARD
BEGIN:DAYLIGHT
TZOFFSETFROM:+0100
TZOFFSETTO:+0200
TZNAME:CEST
DTSTART:20130331T010000
END:DAYLIGHT
BEGIN:STANDARD
TZOFFSETFROM:+0200
TZOFFSETTO:+0100
TZNAME:CET
DTSTART:20131027T010000
END:STANDARD
BEGIN:DAYLIGHT
TZOFFSETFROM:+0100
TZOFFSETTO:+0200
TZNAME:CEST
DTSTART:20140330T010000
END:DAYLIGHT
BEGIN:STANDARD
TZOFFSETFROM:+0200
TZOFFSETTO:+0100
TZNAME:CET
DTSTART:20141026T010000
END:STANDARD
END:VTIMEZONE
BEGIN:VEVENT
DTSTART;VALUE=DATE:20130712
DTEND;VALUE=DATE:20130715
DTSTAMP:20260421T151015
CREATED:20121212T055606Z
LAST-MODIFIED:20151227T214924Z
UID:55-1373587200-1373846399@lgdmg.ch
SUMMARY:Les Médiévales de Saint-Ursanne
DESCRIPTION:La Garde du Mont-Gibloux bravera le soleil et les canicules du mois de juillet en les murs de Saint-Ursanne. \nEntre les cris des marchands\, le fracas des armes et celui des pintes d’hydromel qui s’entrechoquent\, soyez nombreux à venir nous visiter\, dans les rues ou à notre campement\, lors de votre passage en la cité Jurassienne qui brillera du Mystérieux Trésor des Templiers… \n« Ne sentez-vous point déjà l’odeur du sanglier rôti ? »
URL:https://lgdmg.ch/event/evenement55/
CATEGORIES:Evénements
END:VEVENT
END:VCALENDAR