BEGIN:VCALENDAR
VERSION:2.0
PRODID:-//La Garde du Mont-Gibloux - ECPv6.15.20//NONSGML v1.0//EN
CALSCALE:GREGORIAN
METHOD:PUBLISH
X-ORIGINAL-URL:https://lgdmg.ch
X-WR-CALDESC:Évènements pour La Garde du Mont-Gibloux
REFRESH-INTERVAL;VALUE=DURATION:PT1H
X-Robots-Tag:noindex
X-PUBLISHED-TTL:PT1H
BEGIN:VTIMEZONE
TZID:Europe/Vienna
BEGIN:DAYLIGHT
TZOFFSETFROM:+0100
TZOFFSETTO:+0200
TZNAME:CEST
DTSTART:20110327T010000
END:DAYLIGHT
BEGIN:STANDARD
TZOFFSETFROM:+0200
TZOFFSETTO:+0100
TZNAME:CET
DTSTART:20111030T010000
END:STANDARD
BEGIN:DAYLIGHT
TZOFFSETFROM:+0100
TZOFFSETTO:+0200
TZNAME:CEST
DTSTART:20120325T010000
END:DAYLIGHT
BEGIN:STANDARD
TZOFFSETFROM:+0200
TZOFFSETTO:+0100
TZNAME:CET
DTSTART:20121028T010000
END:STANDARD
BEGIN:DAYLIGHT
TZOFFSETFROM:+0100
TZOFFSETTO:+0200
TZNAME:CEST
DTSTART:20130331T010000
END:DAYLIGHT
BEGIN:STANDARD
TZOFFSETFROM:+0200
TZOFFSETTO:+0100
TZNAME:CET
DTSTART:20131027T010000
END:STANDARD
END:VTIMEZONE
BEGIN:VEVENT
DTSTART;VALUE=DATE:20120622
DTEND;VALUE=DATE:20120624
DTSTAMP:20260422T095306
CREATED:20120411T114156Z
LAST-MODIFIED:20151227T220135Z
UID:17-1340323200-1340495999@lgdmg.ch
SUMMARY:Ferette
DESCRIPTION:En ce mois de Juin 2012\, La Garde du Mont-Gibloux se rendra à Ferrette\, en France voisine\, afin de participer aux festivités médiévales qui auront lieu en cette magnifique cité.\nhttp://www.ferrette-medievale.org/accueil.php
URL:https://lgdmg.ch/event/evenement17/
CATEGORIES:Evénements
END:VEVENT
END:VCALENDAR