BEGIN:VCALENDAR
VERSION:2.0
PRODID:-//La Garde du Mont-Gibloux - ECPv6.15.20//NONSGML v1.0//EN
CALSCALE:GREGORIAN
METHOD:PUBLISH
X-ORIGINAL-URL:https://lgdmg.ch
X-WR-CALDESC:Évènements pour La Garde du Mont-Gibloux
REFRESH-INTERVAL;VALUE=DURATION:PT1H
X-Robots-Tag:noindex
X-PUBLISHED-TTL:PT1H
BEGIN:VTIMEZONE
TZID:Europe/Vienna
BEGIN:DAYLIGHT
TZOFFSETFROM:+0100
TZOFFSETTO:+0200
TZNAME:CEST
DTSTART:20100328T010000
END:DAYLIGHT
BEGIN:STANDARD
TZOFFSETFROM:+0200
TZOFFSETTO:+0100
TZNAME:CET
DTSTART:20101031T010000
END:STANDARD
BEGIN:DAYLIGHT
TZOFFSETFROM:+0100
TZOFFSETTO:+0200
TZNAME:CEST
DTSTART:20110327T010000
END:DAYLIGHT
BEGIN:STANDARD
TZOFFSETFROM:+0200
TZOFFSETTO:+0100
TZNAME:CET
DTSTART:20111030T010000
END:STANDARD
BEGIN:DAYLIGHT
TZOFFSETFROM:+0100
TZOFFSETTO:+0200
TZNAME:CEST
DTSTART:20120325T010000
END:DAYLIGHT
BEGIN:STANDARD
TZOFFSETFROM:+0200
TZOFFSETTO:+0100
TZNAME:CET
DTSTART:20121028T010000
END:STANDARD
END:VTIMEZONE
BEGIN:VEVENT
DTSTART;VALUE=DATE:20110906
DTEND;VALUE=DATE:20110911
DTSTAMP:20260422T215205
CREATED:20110613T091158Z
LAST-MODIFIED:20151227T215231Z
UID:8-1315267200-1315699199@lgdmg.ch
SUMMARY:Saillon
DESCRIPTION:Tous les 4 ans a lieu à Saillon\, en Valais\, la grande fête médiévale organisée par la compagnie de Bayardine. De nombreuses animations en plein air\, avec musique et ripaille!
URL:https://lgdmg.ch/event/evenement8/
CATEGORIES:Evénements
END:VEVENT
END:VCALENDAR