BEGIN:VCALENDAR
VERSION:2.0
PRODID:-//La Garde du Mont-Gibloux - ECPv6.15.20//NONSGML v1.0//EN
CALSCALE:GREGORIAN
METHOD:PUBLISH
X-ORIGINAL-URL:https://lgdmg.ch
X-WR-CALDESC:Évènements pour La Garde du Mont-Gibloux
REFRESH-INTERVAL;VALUE=DURATION:PT1H
X-Robots-Tag:noindex
X-PUBLISHED-TTL:PT1H
BEGIN:VTIMEZONE
TZID:Europe/Vienna
BEGIN:DAYLIGHT
TZOFFSETFROM:+0100
TZOFFSETTO:+0200
TZNAME:CEST
DTSTART:20120325T010000
END:DAYLIGHT
BEGIN:STANDARD
TZOFFSETFROM:+0200
TZOFFSETTO:+0100
TZNAME:CET
DTSTART:20121028T010000
END:STANDARD
BEGIN:DAYLIGHT
TZOFFSETFROM:+0100
TZOFFSETTO:+0200
TZNAME:CEST
DTSTART:20130331T010000
END:DAYLIGHT
BEGIN:STANDARD
TZOFFSETFROM:+0200
TZOFFSETTO:+0100
TZNAME:CET
DTSTART:20131027T010000
END:STANDARD
BEGIN:DAYLIGHT
TZOFFSETFROM:+0100
TZOFFSETTO:+0200
TZNAME:CEST
DTSTART:20140330T010000
END:DAYLIGHT
BEGIN:STANDARD
TZOFFSETFROM:+0200
TZOFFSETTO:+0100
TZNAME:CET
DTSTART:20141026T010000
END:STANDARD
END:VTIMEZONE
BEGIN:VEVENT
DTSTART;VALUE=DATE:20130510
DTEND;VALUE=DATE:20130511
DTSTAMP:20260421T165657
CREATED:20130423T122050Z
LAST-MODIFIED:20151227T215007Z
UID:85-1368144000-1368230399@lgdmg.ch
SUMMARY:Gros Œuvre
DESCRIPTION:La Garde du Mont-Gibloux se trouvera à Marly\, Route de Bourguillon 32\, afin d’effectuer ses divers travaux de Printemps sur son matériel. \n– Fabrication de Caisses de transport\n– Réparations et Nettoyage\n– Inventaire \nPar quelques rayons de soleil\, une grillade est à envisager pour le repas de midi. \nDivers informations logistiques suivront.
URL:https://lgdmg.ch/event/evenement85/
CATEGORIES:Evénements
END:VEVENT
BEGIN:VEVENT
DTSTART;VALUE=DATE:20130518
DTEND;VALUE=DATE:20130521
DTSTAMP:20260421T165657
CREATED:20121212T055135Z
LAST-MODIFIED:20151227T214955Z
UID:54-1368835200-1369094399@lgdmg.ch
SUMMARY:Les Grandes Médiévales d’Andilly
DESCRIPTION:La Garde du Mont-Gibloux se rendra à Andilly pour installer son campement en ces mémorables festivités. \nAu programme : spectacle\, combat\, ripaille\, musique et bien d’autres joyeusetés ! \nSoyez nombreux à venir nous visiter lors de votre passage en Haute-Savoie…
URL:https://lgdmg.ch/event/evenement54/
CATEGORIES:Evénements
END:VEVENT
BEGIN:VEVENT
DTSTART;VALUE=DATE:20130525
DTEND;VALUE=DATE:20130527
DTSTAMP:20260421T165657
CREATED:20130327T110644Z
LAST-MODIFIED:20151227T214945Z
UID:82-1369440000-1369612799@lgdmg.ch
SUMMARY:Les Grandes Médiévales d’Andilly
DESCRIPTION:La Garde du Mont-Gibloux se rendra à Andilly pour installer son campement en ces mémorables festivités. \nAu programme : spectacle\, combat\, ripaille\, musique et bien d’autres joyeusetés ! \nSoyez nombreux à venir nous visiter lors de votre passage en Haute-Savoie…
URL:https://lgdmg.ch/event/evenement82/
CATEGORIES:Evénements
END:VEVENT
END:VCALENDAR