BEGIN:VCALENDAR
VERSION:2.0
PRODID:-//La Garde du Mont-Gibloux - ECPv6.15.20//NONSGML v1.0//EN
CALSCALE:GREGORIAN
METHOD:PUBLISH
X-ORIGINAL-URL:https://lgdmg.ch
X-WR-CALDESC:Évènements pour La Garde du Mont-Gibloux
REFRESH-INTERVAL;VALUE=DURATION:PT1H
X-Robots-Tag:noindex
X-PUBLISHED-TTL:PT1H
BEGIN:VTIMEZONE
TZID:Europe/Vienna
BEGIN:DAYLIGHT
TZOFFSETFROM:+0100
TZOFFSETTO:+0200
TZNAME:CEST
DTSTART:20120325T010000
END:DAYLIGHT
BEGIN:STANDARD
TZOFFSETFROM:+0200
TZOFFSETTO:+0100
TZNAME:CET
DTSTART:20121028T010000
END:STANDARD
BEGIN:DAYLIGHT
TZOFFSETFROM:+0100
TZOFFSETTO:+0200
TZNAME:CEST
DTSTART:20130331T010000
END:DAYLIGHT
BEGIN:STANDARD
TZOFFSETFROM:+0200
TZOFFSETTO:+0100
TZNAME:CET
DTSTART:20131027T010000
END:STANDARD
BEGIN:DAYLIGHT
TZOFFSETFROM:+0100
TZOFFSETTO:+0200
TZNAME:CEST
DTSTART:20140330T010000
END:DAYLIGHT
BEGIN:STANDARD
TZOFFSETFROM:+0200
TZOFFSETTO:+0100
TZNAME:CET
DTSTART:20141026T010000
END:STANDARD
END:VTIMEZONE
BEGIN:VEVENT
DTSTART;VALUE=DATE:20130122
DTEND;VALUE=DATE:20130123
DTSTAMP:20260421T222229
CREATED:20130119T201251Z
LAST-MODIFIED:20151227T220223Z
UID:60-1358812800-1358899199@lgdmg.ch
SUMMARY:Assemblée
DESCRIPTION:La Garde du Mont-Gibloux tiendra son assemblée générale ce soir-là\, 20h à l’Auberge des Trois Sapins d’Arconciel. \nCompagnons ! Bien à vous.
URL:https://lgdmg.ch/event/evenement60/
CATEGORIES:Evénements
END:VEVENT
END:VCALENDAR